PDS_VERSION_ID = PDS3
/* Identification Information */
NOT_APPLICABLE_CONSTANT = -9998
DATA_SET_ID = "MRO-M-HIRISE-3-RDR-V1.1"
DATA_SET_NAME = "MRO MARS HIGH RESOLUTION IMAGING SCIENCE EXPERIMENT RDR V1.1"
PRODUCER_INSTITUTION_NAME = "UNIVERSITY OF ARIZONA"
PRODUCER_ID = "UA"
PRODUCER_FULL_NAME = "ALFRED MCEWEN"
OBSERVATION_ID = "ESP_089000_2620"
PRODUCT_ID = "ESP_089000_2620_MRGB"
PRODUCT_VERSION_ID = "1"
INSTRUMENT_HOST_NAME = "MARS RECONNAISSANCE ORBITER"
INSTRUMENT_HOST_ID = "MRO"
INSTRUMENT_NAME = "HIGH RESOLUTION IMAGING SCIENCE EXPERIMENT"
INSTRUMENT_ID = "HIRISE"
TARGET_NAME = "MARS"
MISSION_PHASE_NAME = "EXTENDED SCIENCE PHASE"
ORBIT_NUMBER = 89000
SOURCE_PRODUCT_ID = (ESP_089000_2620_RED0_0, ESP_089000_2620_RED0_1, ESP_089000_2620_RED1_0, ESP_089000_2620_RED1_1, ESP_089000_2620_RED2_0, ESP_089000_2620_RED2_1, ESP_089000_2620_RED3_0, ESP_089000_2620_RED3_1, ESP_089000_2620_RED4_0, ESP_089000_2620_RED4_1, ESP_089000_2620_RED5_0, ESP_089000_2620_RED5_1, ESP_089000_2620_RED6_0, ESP_089000_2620_RED6_1, ESP_089000_2620_RED7_0, ESP_089000_2620_RED7_1, ESP_089000_2620_RED8_0, ESP_089000_2620_BG12_0, ESP_089000_2620_BG12_1, ESP_089000_2620_IR10_0, ESP_089000_2620_IR10_1, ESP_089000_2620_BG13_0, ESP_089000_2620_BG13_1, ESP_089000_2620_IR11_0, ESP_089000_2620_IR11_1)
RATIONALE_DESC = "Small crater on north polar deposits"
SOFTWARE_NAME = "PDS_to_JP2 v4.5.5 (1.56 2016/09/26 23:05:38)"
OBJECT = IMAGE_MAP_PROJECTION
  ^DATA_SET_MAP_PROJECTION = "DSMAP.CAT"
  MAP_PROJECTION_TYPE = "POLAR STEREOGRAPHIC"
  PROJECTION_LATITUDE_TYPE = PLANETOCENTRIC
  A_AXIS_RADIUS = 3396.19
  B_AXIS_RADIUS = 3396.19
  C_AXIS_RADIUS = 3376.2
  COORDINATE_SYSTEM_NAME = PLANETOCENTRIC
  POSITIVE_LONGITUDE_DIRECTION = EAST
  KEYWORD_LATITUDE_TYPE = PLANETOCENTRIC
  /* NOTE: CENTER_LATITUDE and CENTER_LONGITUDE describe the location */
  /* of the center of projection, which is not necessarily equal to the */
  /* location of the center point of the image. */
  CENTER_LATITUDE = 90.000
  CENTER_LONGITUDE = 0.000
  LINE_FIRST_PIXEL = 1
  LINE_LAST_PIXEL = 20285
  SAMPLE_FIRST_PIXEL = 1
  SAMPLE_LAST_PIXEL = 13419
  MAP_PROJECTION_ROTATION = 0.0
  MAP_RESOLUTION = 117851.61241167
  MAP_SCALE = 0.5
  MAXIMUM_LATITUDE = 81.947109629016
  MINIMUM_LATITUDE = 81.759941111703
  LINE_PROJECTION_OFFSET = -847817.0
  SAMPLE_PROJECTION_OFFSET = 441174.0
  EASTERNMOST_LONGITUDE = 333.66926555348
  WESTERNMOST_LONGITUDE = 332.6088298561
END_OBJECT = IMAGE_MAP_PROJECTION
/* All xxx_COUNT values are for the MRO spacecraft clock (SCLK) */
/* in seconds:subseconds form. A subsecond tick = 15.2588 microseconds. */
/* All xxx_TIME values are referenced to UTC. */
GROUP = TIME_PARAMETERS
  /* Time when the observation first started */
  MRO:OBSERVATION_START_TIME = 2025-07-22T06:14:43.966
  /* Time of the first image line */
  START_TIME = 2025-07-22T06:14:44.127
  SPACECRAFT_CLOCK_START_COUNT = "1437632145:50670"
  /* Time of the last image line */
  STOP_TIME = 2025-07-22T06:14:47.285
  SPACECRAFT_CLOCK_STOP_COUNT = "1437632148:61055"
  /* Time when this RDR product was created */
  PRODUCT_CREATION_TIME = 2025-07-31T03:10:46
END_GROUP = TIME_PARAMETERS
GROUP = INSTRUMENT_SETTING_PARAMETERS
  MRO:CCD_FLAG = (ON, ON, ON, ON, ON, ON, ON, ON, ON, OFF, ON, ON, ON, ON)
  MRO:BINNING = (2, 2, 2, 2, 1, 1, 1, 2, 2, -9998, 2, 2, 2, 2)
  MRO:TDI = (64, 64, 64, 64, 128, 128, 128, 64, 64, -9998, 128, 128, 128, 128)
  MRO:SPECIAL_PROCESSING_FLAG = (CUBENORM, CUBENORM, CUBENORM, CUBENORM, CUBENORM, CUBENORM, CUBENORM, CUBENORM, CUBENORM, "NULL", NOMINAL, "NULL", NOMINAL, "NULL")
END_GROUP = INSTRUMENT_SETTING_PARAMETERS
GROUP = VIEWING_PARAMETERS
  INCIDENCE_ANGLE = 60.381119
  EMISSION_ANGLE = 3.346311
  PHASE_ANGLE = 63.194031
  LOCAL_TIME = 14.15346
  SOLAR_LONGITUDE = 113.965508
  SUB_SOLAR_AZIMUTH = 151.383267
  NORTH_AZIMUTH = 296.860952
END_GROUP = VIEWING_PARAMETERS
/* The JPEG2000 image data file associated with this label. */
OBJECT = COMPRESSED_FILE
  FILE_NAME = "ESP_089000_2620_MRGB.JP2"
  RECORD_TYPE = UNDEFINED
  ENCODING_TYPE = "JP2"
  ENCODING_TYPE_VERSION_NAME = "ISO/IEC15444-1:2004"
  INTERCHANGE_FORMAT = BINARY
  /* The name of the original source file. */
  UNCOMPRESSED_FILE_NAME = "ESP_089000_2620_MRGB.IMG"
  /* The amount of original image data. */
  REQUIRED_STORAGE_BYTES = 816613245
  ^DESCRIPTION = "JP2INFO.TXT"
END_OBJECT = COMPRESSED_FILE
/* The source image data definition. */
OBJECT = UNCOMPRESSED_FILE
  FILE_NAME = "ESP_089000_2620_MRGB.IMG"
  RECORD_TYPE = FIXED_LENGTH
  RECORD_BYTES = 13419
  FILE_RECORDS = 60855
  ^IMAGE = "ESP_089000_2620_MRGB.IMG"
  OBJECT = IMAGE
    DESCRIPTION = "HiRISE projected and mosaicked product"
    LINES = 20285
    LINE_SAMPLES = 13419
    BANDS = 3
    SAMPLE_TYPE = MSB_UNSIGNED_INTEGER
    SAMPLE_BITS = 8
    SAMPLE_BIT_MASK = 2#11111111#
    MRO:STRETCH_FLAG = "FROST_STRETCH"
    /* Scaled DNs have the range 0 to 255 */
    /* and are relative values. */
    SCALING_FACTOR = 1.0079051383399
    OFFSET = -1.0079051383399
    BAND_STORAGE_TYPE = BAND_SEQUENTIAL
    CORE_NULL = 0
    CORE_LOW_REPR_SATURATION = 0
    CORE_LOW_INSTR_SATURATION = 0
    CORE_HIGH_REPR_SATURATION = 255
    CORE_HIGH_INSTR_SATURATION = 255
    CENTER_FILTER_WAVELENGTH = (-9998 , -9998 , -9998 )
    MRO:MINIMUM_STRETCH = (1, 1, 1)
    MRO:MAXIMUM_STRETCH = (254, 254, 254)
    FILTER_NAME = ("NULL", "NULL", "NULL")
  END_OBJECT = IMAGE
END_OBJECT = UNCOMPRESSED_FILE
END
