PDS_VERSION_ID = PDS3
/* Identification Information */
NOT_APPLICABLE_CONSTANT = -9998
DATA_SET_ID = "MRO-M-HIRISE-3-RDR-V1.1"
DATA_SET_NAME = "MRO MARS HIGH RESOLUTION IMAGING SCIENCE EXPERIMENT RDR V1.1"
PRODUCER_INSTITUTION_NAME = "UNIVERSITY OF ARIZONA"
PRODUCER_ID = "UA"
PRODUCER_FULL_NAME = "ALFRED MCEWEN"
OBSERVATION_ID = "ESP_087806_2765"
PRODUCT_ID = "ESP_087806_2765_MIRB"
PRODUCT_VERSION_ID = "1"
INSTRUMENT_HOST_NAME = "MARS RECONNAISSANCE ORBITER"
INSTRUMENT_HOST_ID = "MRO"
INSTRUMENT_NAME = "HIGH RESOLUTION IMAGING SCIENCE EXPERIMENT"
INSTRUMENT_ID = "HIRISE"
TARGET_NAME = "MARS"
MISSION_PHASE_NAME = "EXTENDED SCIENCE PHASE"
ORBIT_NUMBER = 87806
SOURCE_PRODUCT_ID = (ESP_087806_2765_RED0_0, ESP_087806_2765_RED0_1, ESP_087806_2765_RED1_0, ESP_087806_2765_RED1_1, ESP_087806_2765_RED2_0, ESP_087806_2765_RED2_1, ESP_087806_2765_RED3_0, ESP_087806_2765_RED3_1, ESP_087806_2765_RED5_0, ESP_087806_2765_RED5_1, ESP_087806_2765_RED6_0, ESP_087806_2765_RED6_1, ESP_087806_2765_RED7_0, ESP_087806_2765_RED7_1, ESP_087806_2765_RED8_0, ESP_087806_2765_BG13_0, ESP_087806_2765_BG13_1, ESP_087806_2765_IR11_0, ESP_087806_2765_IR11_1)
RATIONALE_DESC = "Northern terrain sample"
SOFTWARE_NAME = "PDS_to_JP2 v4.5.1 (1.56 2016/09/26 23:05:38)"
OBJECT = IMAGE_MAP_PROJECTION
  ^DATA_SET_MAP_PROJECTION = "DSMAP.CAT"
  MAP_PROJECTION_TYPE = "POLAR STEREOGRAPHIC"
  PROJECTION_LATITUDE_TYPE = PLANETOCENTRIC
  A_AXIS_RADIUS = 3396.19
  B_AXIS_RADIUS = 3396.19
  C_AXIS_RADIUS = 3376.2
  COORDINATE_SYSTEM_NAME = PLANETOCENTRIC
  POSITIVE_LONGITUDE_DIRECTION = EAST
  KEYWORD_LATITUDE_TYPE = PLANETOCENTRIC
  /* NOTE: CENTER_LATITUDE and CENTER_LONGITUDE describe the location */
  /* of the center of projection, which is not necessarily equal to the */
  /* location of the center point of the image. */
  CENTER_LATITUDE = 90.000
  CENTER_LONGITUDE = 0.000
  LINE_FIRST_PIXEL = 1
  LINE_LAST_PIXEL = 33643
  SAMPLE_FIRST_PIXEL = 1
  SAMPLE_LAST_PIXEL = 18557
  MAP_PROJECTION_ROTATION = 0.0
  MAP_RESOLUTION = 117851.61241167
  MAP_SCALE = 0.5
  MAXIMUM_LATITUDE = 83.466666662938
  MINIMUM_LATITUDE = 83.181126473983
  LINE_PROJECTION_OFFSET = -612934.5
  SAMPLE_PROJECTION_OFFSET = -463844.5
  EASTERNMOST_LONGITUDE = 37.775066136744
  WESTERNMOST_LONGITUDE = 36.084747655912
END_OBJECT = IMAGE_MAP_PROJECTION
/* All xxx_COUNT values are for the MRO spacecraft clock (SCLK) */
/* in seconds:subseconds form. A subsecond tick = 15.2588 microseconds. */
/* All xxx_TIME values are referenced to UTC. */
GROUP = TIME_PARAMETERS
  /* Time when the observation first started */
  MRO:OBSERVATION_START_TIME = 2025-04-20T05:08:47.917
  /* Time of the first image line */
  START_TIME = 2025-04-20T05:08:48.076
  SPACECRAFT_CLOCK_START_COUNT = "1429592989:27164"
  /* Time of the last image line */
  STOP_TIME = 2025-04-20T05:08:53.254
  SPACECRAFT_CLOCK_STOP_COUNT = "1429592994:38784"
  /* Time when this RDR product was created */
  PRODUCT_CREATION_TIME = 2025-04-24T18:31:22
END_GROUP = TIME_PARAMETERS
GROUP = INSTRUMENT_SETTING_PARAMETERS
  MRO:CCD_FLAG = (ON, ON, ON, ON, OFF, ON, ON, ON, ON, OFF, ON, ON, ON, ON)
  MRO:BINNING = (2, 2, 2, 2, -9998, 1, 1, 2, 2, -9998, -9998, 2, -9998, 2)
  MRO:TDI = (64, 64, 64, 64, -9998, 128, 128, 64, 64, -9998, -9998, 128, -9998, 128)
  MRO:SPECIAL_PROCESSING_FLAG = (CUBENORM, CUBENORM, CUBENORM, CUBENORM, "NULL", CUBENORM, CUBENORM, CUBENORM, CUBENORM, "NULL", "NULL", NOMINAL, "NULL", NOMINAL)
END_GROUP = INSTRUMENT_SETTING_PARAMETERS
GROUP = VIEWING_PARAMETERS
  INCIDENCE_ANGLE = 68.181945
  EMISSION_ANGLE = 0.063503
  PHASE_ANGLE = 68.192174
  LOCAL_TIME = 4.82393
  SOLAR_LONGITUDE = 72.582885
  SUB_SOLAR_AZIMUTH = 302.761680
  NORTH_AZIMUTH = 233.070093
END_GROUP = VIEWING_PARAMETERS
/* The JPEG2000 image data file associated with this label. */
OBJECT = COMPRESSED_FILE
  FILE_NAME = "ESP_087806_2765_MIRB.JP2"
  RECORD_TYPE = UNDEFINED
  ENCODING_TYPE = "JP2"
  ENCODING_TYPE_VERSION_NAME = "ISO/IEC15444-1:2004"
  INTERCHANGE_FORMAT = BINARY
  /* The name of the original source file. */
  UNCOMPRESSED_FILE_NAME = "ESP_087806_2765_MIRB.IMG"
  /* The amount of original image data. */
  REQUIRED_STORAGE_BYTES = 1872939453
  ^DESCRIPTION = "JP2INFO.TXT"
END_OBJECT = COMPRESSED_FILE
/* The source image data definition. */
OBJECT = UNCOMPRESSED_FILE
  FILE_NAME = "ESP_087806_2765_MIRB.IMG"
  RECORD_TYPE = FIXED_LENGTH
  RECORD_BYTES = 18557
  FILE_RECORDS = 100929
  ^IMAGE = "ESP_087806_2765_MIRB.IMG"
  OBJECT = IMAGE
    DESCRIPTION = "HiRISE projected and mosaicked product"
    LINES = 33643
    LINE_SAMPLES = 18557
    BANDS = 3
    SAMPLE_TYPE = MSB_UNSIGNED_INTEGER
    SAMPLE_BITS = 8
    SAMPLE_BIT_MASK = 2#11111111#
    MRO:STRETCH_FLAG = "FROST_STRETCH"
    /* Scaled DNs have the range 0 to 255 */
    /* and are relative values. */
    SCALING_FACTOR = 1.0079051383399
    OFFSET = -1.0079051383399
    BAND_STORAGE_TYPE = BAND_SEQUENTIAL
    CORE_NULL = 0
    CORE_LOW_REPR_SATURATION = 0
    CORE_LOW_INSTR_SATURATION = 0
    CORE_HIGH_REPR_SATURATION = 255
    CORE_HIGH_INSTR_SATURATION = 255
    CENTER_FILTER_WAVELENGTH = (-9998 , -9998 , -9998 )
    MRO:MINIMUM_STRETCH = (1, 1, 1)
    MRO:MAXIMUM_STRETCH = (254, 254, 254)
    FILTER_NAME = ("NULL", "NULL", "NULL")
  END_OBJECT = IMAGE
END_OBJECT = UNCOMPRESSED_FILE
END
