PDS_VERSION_ID = PDS3
/* Identification Information */
NOT_APPLICABLE_CONSTANT = -9998
DATA_SET_ID = "MRO-M-HIRISE-3-RDR-V1.1"
DATA_SET_NAME = "MRO MARS HIGH RESOLUTION IMAGING SCIENCE EXPERIMENT RDR V1.1"
PRODUCER_INSTITUTION_NAME = "UNIVERSITY OF ARIZONA"
PRODUCER_ID = "UA"
PRODUCER_FULL_NAME = "ALFRED MCEWEN"
OBSERVATION_ID = "ESP_036687_2645"
PRODUCT_ID = "ESP_036687_2645_MRGB"
PRODUCT_VERSION_ID = "1"
INSTRUMENT_HOST_NAME = "MARS RECONNAISSANCE ORBITER"
INSTRUMENT_HOST_ID = "MRO"
INSTRUMENT_NAME = "HIGH RESOLUTION IMAGING SCIENCE EXPERIMENT"
INSTRUMENT_ID = "HIRISE"
TARGET_NAME = "MARS"
MISSION_PHASE_NAME = "EXTENDED SCIENCE PHASE"
ORBIT_NUMBER = 36687
SOURCE_PRODUCT_ID = (ESP_036687_2645_RED0_0, ESP_036687_2645_RED0_1, ESP_036687_2645_RED1_0, ESP_036687_2645_RED1_1, ESP_036687_2645_RED2_0, ESP_036687_2645_RED2_1, ESP_036687_2645_RED3_0, ESP_036687_2645_RED3_1, ESP_036687_2645_RED4_0, ESP_036687_2645_RED4_1, ESP_036687_2645_RED5_0, ESP_036687_2645_RED5_1, ESP_036687_2645_RED6_0, ESP_036687_2645_RED6_1, ESP_036687_2645_RED7_0, ESP_036687_2645_RED7_1, ESP_036687_2645_RED8_0, ESP_036687_2645_BG12_0, ESP_036687_2645_BG12_1, ESP_036687_2645_IR10_0, ESP_036687_2645_IR10_1, ESP_036687_2645_BG13_0, ESP_036687_2645_BG13_1, ESP_036687_2645_IR11_0, ESP_036687_2645_IR11_1)
RATIONALE_DESC = "West flank of Chasma Boreale dunes"
SOFTWARE_NAME = "PDS_to_JP2 v3.19 (1.53 2012/01/24 03:07:27)"
OBJECT = IMAGE_MAP_PROJECTION
  ^DATA_SET_MAP_PROJECTION = "DSMAP.CAT"
  MAP_PROJECTION_TYPE = "POLAR STEREOGRAPHIC"
  PROJECTION_LATITUDE_TYPE = PLANETOCENTRIC
  A_AXIS_RADIUS = 3396.19 <KM>
  B_AXIS_RADIUS = 3396.19 <KM>
  C_AXIS_RADIUS = 3376.2 <KM>
  COORDINATE_SYSTEM_NAME = PLANETOCENTRIC
  POSITIVE_LONGITUDE_DIRECTION = EAST
  KEYWORD_LATITUDE_TYPE = PLANETOCENTRIC
  /* NOTE: CENTER_LATITUDE and CENTER_LONGITUDE describe the location */
  /* of the center of projection, which is not necessarily equal to the */
  /* location of the center point of the image. */
  CENTER_LATITUDE = 90.000 <DEG>
  CENTER_LONGITUDE = 0.000 <DEG>
  LINE_FIRST_PIXEL = 1
  LINE_LAST_PIXEL = 33504
  SAMPLE_FIRST_PIXEL = 1
  SAMPLE_LAST_PIXEL = 16828
  MAP_PROJECTION_ROTATION = 0.0 <DEG>
  MAP_RESOLUTION = 117851.61241167 <PIX/DEG>
  MAP_SCALE = 0.5 <METERS/PIXEL>
  MAXIMUM_LATITUDE = 84.459691752885 <DEG>
  MINIMUM_LATITUDE = 84.173949605624 <DEG>
  LINE_PROJECTION_OFFSET = -520010.5 <PIXEL>
  SAMPLE_PROJECTION_OFFSET = 409924.0 <PIXEL>
  EASTERNMOST_LONGITUDE = 324.24570198448 <DEG>
  WESTERNMOST_LONGITUDE = 322.12423221452 <DEG>
END_OBJECT = IMAGE_MAP_PROJECTION
/* All xxx_COUNT values are for the MRO spacecraft clock (SCLK) */
/* in seconds:subseconds form. A subsecond tick = 15.2588 microseconds. */
/* All xxx_TIME values are referenced to UTC. */
GROUP = TIME_PARAMETERS
  /* Time when the observation first started */
  MRO:OBSERVATION_START_TIME = 2014-05-25T05:04:05.977
  /* Time of the first image line */
  START_TIME = 2014-05-25T05:04:06.137
  SPACECRAFT_CLOCK_START_COUNT = "1085461483:61234"
  /* Time of the last image line */
  STOP_TIME = 2014-05-25T05:04:11.336
  SPACECRAFT_CLOCK_STOP_COUNT = "1085461489:08691"
  /* Time when this RDR product was created */
  PRODUCT_CREATION_TIME = 2014-05-30T11:05:28
END_GROUP = TIME_PARAMETERS
GROUP = INSTRUMENT_SETTING_PARAMETERS
  MRO:CCD_FLAG = (ON, ON, ON, ON, ON, ON, ON, ON, ON, OFF, ON, ON, ON, ON)
  MRO:BINNING = (1, 1, 1, 1, 1, 1, 1, 1, 1, -9998, 2, 2, 2, 2)
  MRO:TDI = (128, 128, 128, 128, 128, 128, 128, 128, 128, -9998, 128, 128, 128, 128)
  MRO:SPECIAL_PROCESSING_FLAG = (NOMINAL, NOMINAL, NOMINAL, NOMINAL, NOMINAL, NOMINAL, NOMINAL, NOMINAL, NOMINAL, "NULL", NOMINAL, "NULL", NOMINAL, "NULL")
END_GROUP = INSTRUMENT_SETTING_PARAMETERS
GROUP = VIEWING_PARAMETERS
  INCIDENCE_ANGLE = 67.652428 <DEG>
  EMISSION_ANGLE = 0.947523 <DEG>
  PHASE_ANGLE = 66.948887 <DEG>
  LOCAL_TIME = 13.80301 <LOCALDAY/24>
  SOLAR_LONGITUDE = 135.664029 <DEG>
  SUB_SOLAR_AZIMUTH = 154.807815 <DEG>
  NORTH_AZIMUTH = 306.815033 <DEG>
END_GROUP = VIEWING_PARAMETERS
/* The JPEG2000 image data file associated with this label. */
OBJECT = COMPRESSED_FILE
  FILE_NAME = "ESP_036687_2645_MRGB.JP2"
  RECORD_TYPE = UNDEFINED
  ENCODING_TYPE = "JP2"
  ENCODING_TYPE_VERSION_NAME = "ISO/IEC15444-1:2004"
  INTERCHANGE_FORMAT = BINARY
  /* The name of the original source file. */
  UNCOMPRESSED_FILE_NAME = "ESP_036687_2645_MRGB.IMG"
  /* The amount of original image data. */
  REQUIRED_STORAGE_BYTES = 1691415936 <BYTES>
  ^DESCRIPTION = "JP2INFO.TXT"
END_OBJECT = COMPRESSED_FILE
/* The source image data definition. */
OBJECT = UNCOMPRESSED_FILE
  FILE_NAME = "ESP_036687_2645_MRGB.IMG"
  RECORD_TYPE = FIXED_LENGTH
  RECORD_BYTES = 16828 <BYTES>
  FILE_RECORDS = 100512
  ^IMAGE = "ESP_036687_2645_MRGB.IMG"
  OBJECT = IMAGE
    DESCRIPTION = "HiRISE projected and mosaicked product"
    LINES = 33504
    LINE_SAMPLES = 16828
    BANDS = 3
    SAMPLE_TYPE = MSB_UNSIGNED_INTEGER
    SAMPLE_BITS = 8
    SAMPLE_BIT_MASK = 2#11111111#
    MRO:STRETCH_FLAG = "NORMAL_STRETCH"
    /* Scaled DNs have the range 0 to 255 */
    /* and are relative values. */
    SCALING_FACTOR = 1.0079051383399
    OFFSET = -1.0079051383399
    BAND_STORAGE_TYPE = BAND_SEQUENTIAL
    CORE_NULL = 0
    CORE_LOW_REPR_SATURATION = 0
    CORE_LOW_INSTR_SATURATION = 0
    CORE_HIGH_REPR_SATURATION = 255
    CORE_HIGH_INSTR_SATURATION = 255
    CENTER_FILTER_WAVELENGTH = (-9998 <NM>, -9998 <NM>, -9998 <NM>)
    MRO:MINIMUM_STRETCH = (1, 1, 1)
    MRO:MAXIMUM_STRETCH = (254, 254, 254)
    FILTER_NAME = ("NULL", "NULL", "NULL")
  END_OBJECT = IMAGE
END_OBJECT = UNCOMPRESSED_FILE
END
