PDS_VERSION_ID = PDS3
/* Identification Information */
NOT_APPLICABLE_CONSTANT = -9998
DATA_SET_ID = "MRO-M-HIRISE-3-RDR-V1.1"
DATA_SET_NAME = "MRO MARS HIGH RESOLUTION IMAGING SCIENCE EXPERIMENT RDR V1.1"
PRODUCER_INSTITUTION_NAME = "UNIVERSITY OF ARIZONA"
PRODUCER_ID = "UA"
PRODUCER_FULL_NAME = "ALFRED MCEWEN"
OBSERVATION_ID = "ESP_028673_2135"
PRODUCT_ID = "ESP_028673_2135_MRGB"
PRODUCT_VERSION_ID = "1"
INSTRUMENT_HOST_NAME = "MARS RECONNAISSANCE ORBITER"
INSTRUMENT_HOST_ID = "MRO"
INSTRUMENT_NAME = "HIGH RESOLUTION IMAGING SCIENCE EXPERIMENT"
INSTRUMENT_ID = "HIRISE"
TARGET_NAME = "MARS"
MISSION_PHASE_NAME = "EXTENDED SCIENCE PHASE"
ORBIT_NUMBER = 28673
SOURCE_PRODUCT_ID = (ESP_028673_2135_RED3_0, ESP_028673_2135_RED3_1, ESP_028673_2135_RED4_0, ESP_028673_2135_RED4_1, ESP_028673_2135_RED5_0, ESP_028673_2135_RED5_1, ESP_028673_2135_RED6_0, ESP_028673_2135_BG12_0, ESP_028673_2135_BG12_1, ESP_028673_2135_IR10_0, ESP_028673_2135_IR10_1, ESP_028673_2135_BG13_0, ESP_028673_2135_BG13_1, ESP_028673_2135_IR11_0, ESP_028673_2135_IR11_1)
RATIONALE_DESC = "Monitoring new impact site"
SOFTWARE_NAME = "PDS_to_JP2 v3.19 (1.53 2012/01/24 03:07:27)"
OBJECT = IMAGE_MAP_PROJECTION
  ^DATA_SET_MAP_PROJECTION = "DSMAP.CAT"
  MAP_PROJECTION_TYPE = "EQUIRECTANGULAR"
  PROJECTION_LATITUDE_TYPE = PLANETOCENTRIC
  /* NOTE: The EQUIRECTANGULAR projection is based on the formula */
  /* for a sphere. To eliminate confusion in the */
  /* IMAGE_MAP_PROJECTION object we have set all three radii, */
  /* A_AXIS_RADIUS, B_AXIS_RADIUS, and C_AXIS_RADIUS to the same */
  /* number. The value recorded in the three radii is the local */
  /* radius at the CENTER_LATITUDE on the Mars ellipsoid. That is, */
  /* equatorial radius of 3396.190000 km and polar radius of */
  /* 3376.200000 kilometers. Using the local radius of the */
  /* ellipsoid implies that the MAP_SCALE and MAP_RESOLUTION are */
  /* true at the CENTER_LATITUDE. */
  A_AXIS_RADIUS = 3391.1592284034
  B_AXIS_RADIUS = 3391.1592284034
  C_AXIS_RADIUS = 3391.1592284034
  COORDINATE_SYSTEM_NAME = PLANETOCENTRIC
  POSITIVE_LONGITUDE_DIRECTION = EAST
  KEYWORD_LATITUDE_TYPE = PLANETOCENTRIC
  /* NOTE: CENTER_LATITUDE and CENTER_LONGITUDE describe the location */
  /* of the center of projection, which is not necessarily equal to the */
  /* location of the center point of the image. */
  CENTER_LATITUDE = 30.000
  CENTER_LONGITUDE = 180.000
  LINE_FIRST_PIXEL = 1
  LINE_LAST_PIXEL = 14292
  SAMPLE_FIRST_PIXEL = 1
  SAMPLE_LAST_PIXEL = 6472
  MAP_PROJECTION_ROTATION = 0.0
  MAP_RESOLUTION = 118373.78799006
  MAP_SCALE = 0.5
  MAXIMUM_LATITUDE = 33.218267978596
  MINIMUM_LATITUDE = 33.097537750111
  LINE_PROJECTION_OFFSET = 3932173.0
  SAMPLE_PROJECTION_OFFSET = -9029444.0
  EASTERNMOST_LONGITUDE = 268.14263163419
  WESTERNMOST_LONGITUDE = 268.07950545585
END_OBJECT = IMAGE_MAP_PROJECTION
/* All xxx_COUNT values are for the MRO spacecraft clock (SCLK) */
/* in seconds:subseconds form. A subsecond tick = 15.2588 microseconds. */
/* All xxx_TIME values are referenced to UTC. */
GROUP = TIME_PARAMETERS
  /* Time when the observation first started */
  MRO:OBSERVATION_START_TIME = 2012-09-07T17:16:25.674
  /* Time of the first image line */
  START_TIME = 2012-09-07T17:16:25.817
  SPACECRAFT_CLOCK_START_COUNT = "1031505420:47308"
  /* Time of the last image line */
  STOP_TIME = 2012-09-07T17:16:28.068
  SPACECRAFT_CLOCK_STOP_COUNT = "1031505422:63739"
  /* Time when this RDR product was created */
  PRODUCT_CREATION_TIME = 2012-09-13T15:46:01
END_GROUP = TIME_PARAMETERS
GROUP = INSTRUMENT_SETTING_PARAMETERS
  MRO:CCD_FLAG = (OFF, OFF, OFF, ON, ON, ON, ON, OFF, OFF, OFF, ON, ON, ON, ON)
  MRO:BINNING = (-9998, -9998, -9998, 1, 1, 1, 1, -9998, -9998, -9998, 2, 2, 2, 2)
  MRO:TDI = (-9998, -9998, -9998, 128, 128, 128, 128, -9998, -9998, -9998, 128, 128, 128, 128)
  MRO:SPECIAL_PROCESSING_FLAG = ("NULL", "NULL", "NULL", NOMINAL, NOMINAL, NOMINAL, NOMINAL, "NULL", "NULL", "NULL", NOMINAL, "NULL", NOMINAL, "NULL")
END_GROUP = INSTRUMENT_SETTING_PARAMETERS
GROUP = VIEWING_PARAMETERS
  INCIDENCE_ANGLE = 56.151968
  EMISSION_ANGLE = 3.632073
  PHASE_ANGLE = 52.674408
  LOCAL_TIME = 15.49748
  SOLAR_LONGITUDE = 167.855743
  SUB_SOLAR_AZIMUTH = 162.541918
  NORTH_AZIMUTH = 270.000000
END_GROUP = VIEWING_PARAMETERS
/* The JPEG2000 image data file associated with this label. */
OBJECT = COMPRESSED_FILE
  FILE_NAME = "ESP_028673_2135_MRGB.JP2"
  RECORD_TYPE = UNDEFINED
  ENCODING_TYPE = "JP2"
  ENCODING_TYPE_VERSION_NAME = "ISO/IEC15444-1:2004"
  INTERCHANGE_FORMAT = BINARY
  /* The name of the original source file. */
  UNCOMPRESSED_FILE_NAME = "ESP_028673_2135_MRGB.IMG"
  /* The amount of original image data. */
  REQUIRED_STORAGE_BYTES = 277493472
  ^DESCRIPTION = "JP2INFO.TXT"
END_OBJECT = COMPRESSED_FILE
/* The source image data definition. */
OBJECT = UNCOMPRESSED_FILE
  FILE_NAME = "ESP_028673_2135_MRGB.IMG"
  RECORD_TYPE = FIXED_LENGTH
  RECORD_BYTES = 6472
  FILE_RECORDS = 42876
  ^IMAGE = "ESP_028673_2135_MRGB.IMG"
  OBJECT = IMAGE
    DESCRIPTION = "HiRISE projected and mosaicked product"
    LINES = 14292
    LINE_SAMPLES = 6472
    BANDS = 3
    SAMPLE_TYPE = MSB_UNSIGNED_INTEGER
    SAMPLE_BITS = 8
    SAMPLE_BIT_MASK = 2#11111111#
    MRO:STRETCH_FLAG = "NORMAL_STRETCH"
    /* Scaled DNs have the range 0 to 255 */
    /* and are relative values. */
    SCALING_FACTOR = 1.0079051383399
    OFFSET = -1.0079051383399
    BAND_STORAGE_TYPE = BAND_SEQUENTIAL
    CORE_NULL = 0
    CORE_LOW_REPR_SATURATION = 0
    CORE_LOW_INSTR_SATURATION = 0
    CORE_HIGH_REPR_SATURATION = 255
    CORE_HIGH_INSTR_SATURATION = 255
    CENTER_FILTER_WAVELENGTH = (-9998 , -9998 , -9998 )
    MRO:MINIMUM_STRETCH = (1, 1, 1)
    MRO:MAXIMUM_STRETCH = (254, 254, 254)
    FILTER_NAME = ("NULL", "NULL", "NULL")
  END_OBJECT = IMAGE
END_OBJECT = UNCOMPRESSED_FILE
END
