PDS_VERSION_ID = PDS3
/* Identification Information */
NOT_APPLICABLE_CONSTANT = -9998
DATA_SET_ID = "MRO-M-HIRISE-3-RDR-V1.1"
DATA_SET_NAME = "MRO MARS HIGH RESOLUTION IMAGING SCIENCE EXPERIMENT RDR V1.1"
PRODUCER_INSTITUTION_NAME = "UNIVERSITY OF ARIZONA"
PRODUCER_ID = "UA"
PRODUCER_FULL_NAME = "ALFRED MCEWEN"
OBSERVATION_ID = "ESP_013527_1615"
PRODUCT_ID = "ESP_013527_1615_MRGB"
PRODUCT_VERSION_ID = "1"
INSTRUMENT_HOST_NAME = "MARS RECONNAISSANCE ORBITER"
INSTRUMENT_HOST_ID = "MRO"
INSTRUMENT_NAME = "HIGH RESOLUTION IMAGING SCIENCE EXPERIMENT"
INSTRUMENT_ID = "HIRISE"
TARGET_NAME = "MARS"
MISSION_PHASE_NAME = "EXTENDED SCIENCE PHASE"
ORBIT_NUMBER = 13527
SOURCE_PRODUCT_ID = (ESP_013527_1615_RED0_0, ESP_013527_1615_RED0_1, ESP_013527_1615_RED1_0, ESP_013527_1615_RED1_1, ESP_013527_1615_RED2_0, ESP_013527_1615_RED2_1, ESP_013527_1615_RED3_0, ESP_013527_1615_RED3_1, ESP_013527_1615_RED4_0, ESP_013527_1615_RED4_1, ESP_013527_1615_RED5_0, ESP_013527_1615_RED5_1, ESP_013527_1615_RED6_0, ESP_013527_1615_RED6_1, ESP_013527_1615_RED7_0, ESP_013527_1615_RED7_1, ESP_013527_1615_RED8_0, ESP_013527_1615_RED8_1, ESP_013527_1615_RED9_0, ESP_013527_1615_BG12_0, ESP_013527_1615_BG12_1, ESP_013527_1615_IR10_0, ESP_013527_1615_IR10_1, ESP_013527_1615_BG13_0, ESP_013527_1615_BG13_1, ESP_013527_1615_IR11_0, ESP_013527_1615_IR11_1)
RATIONALE_DESC = "Well-preserved impact crater with prominent central uplift"
SOFTWARE_NAME = "PDS_to_JP2 v3.19 (1.53 2012/01/24 03:07:27)"
OBJECT = IMAGE_MAP_PROJECTION
  ^DATA_SET_MAP_PROJECTION = "DSMAP.CAT"
  MAP_PROJECTION_TYPE = "EQUIRECTANGULAR"
  PROJECTION_LATITUDE_TYPE = PLANETOCENTRIC
  /* NOTE: The EQUIRECTANGULAR projection is based on the formula */
  /* for a sphere. To eliminate confusion in the */
  /* IMAGE_MAP_PROJECTION object we have set all three radii, */
  /* A_AXIS_RADIUS, B_AXIS_RADIUS, and C_AXIS_RADIUS to the same */
  /* number. The value recorded in the three radii is the local */
  /* radius at the CENTER_LATITUDE on the Mars ellipsoid. That is, */
  /* equatorial radius of 3396.190000 km and polar radius of */
  /* 3376.200000 kilometers. Using the local radius of the */
  /* ellipsoid implies that the MAP_SCALE and MAP_RESOLUTION are */
  /* true at the CENTER_LATITUDE. */
  A_AXIS_RADIUS = 3394.8398133163 <KM>
  B_AXIS_RADIUS = 3394.8398133163 <KM>
  C_AXIS_RADIUS = 3394.8398133163 <KM>
  COORDINATE_SYSTEM_NAME = PLANETOCENTRIC
  POSITIVE_LONGITUDE_DIRECTION = EAST
  KEYWORD_LATITUDE_TYPE = PLANETOCENTRIC
  /* NOTE: CENTER_LATITUDE and CENTER_LONGITUDE describe the location */
  /* of the center of projection, which is not necessarily equal to the */
  /* location of the center point of the image. */
  CENTER_LATITUDE = -15.000 <DEG>
  CENTER_LONGITUDE = 180.0 <DEG>
  LINE_FIRST_PIXEL = 1
  LINE_LAST_PIXEL = 47817
  SAMPLE_FIRST_PIXEL = 1
  SAMPLE_LAST_PIXEL = 16124
  MAP_PROJECTION_ROTATION = 0.0 <DEG>
  MAP_RESOLUTION = 118502.26464032 <PIX/DEG>
  MAP_SCALE = 0.5 <METERS/PIXEL>
  MAXIMUM_LATITUDE = -18.043640587389 <DEG>
  MINIMUM_LATITUDE = -18.447147524701 <DEG>
  LINE_PROJECTION_OFFSET = -2138211.5 <PIXEL>
  SAMPLE_PROJECTION_OFFSET = 5520992.5 <PIXEL>
  EASTERNMOST_LONGITUDE = 131.90759296305 <DEG>
  WESTERNMOST_LONGITUDE = 131.766737175 <DEG>
END_OBJECT = IMAGE_MAP_PROJECTION
/* All xxx_COUNT values are for the MRO spacecraft clock (SCLK) */
/* in seconds:subseconds form. A subsecond tick = 15.2588 microseconds. */
/* All xxx_TIME values are referenced to UTC. */
GROUP = TIME_PARAMETERS
  /* Time when the observation first started */
  MRO:OBSERVATION_START_TIME = 2009-06-15T12:47:45.463
  /* Time of the first image line */
  START_TIME = 2009-06-15T12:47:45.599
  SPACECRAFT_CLOCK_START_COUNT = "929537287:52933"
  /* Time of the last image line */
  STOP_TIME = 2009-06-15T12:47:52.982
  SPACECRAFT_CLOCK_STOP_COUNT = "929537295:12473"
  /* Time when this RDR product was created */
  PRODUCT_CREATION_TIME = 2019-02-15T21:27:02
END_GROUP = TIME_PARAMETERS
GROUP = INSTRUMENT_SETTING_PARAMETERS
  MRO:CCD_FLAG = (ON, ON, ON, ON, ON, ON, ON, ON, ON, ON, ON, ON, ON, ON)
  MRO:BINNING = (2, 2, 2, 2, 2, 2, 2, 2, 2, 2, 2, 2, 2, 2)
  MRO:TDI = (64, 64, 64, 64, 64, 64, 64, 64, 64, 64, 128, 128, 128, 128)
  MRO:SPECIAL_PROCESSING_FLAG = (NOMINAL, NOMINAL, NOMINAL, NOMINAL, NOMINAL, NOMINAL, NOMINAL, NOMINAL, NOMINAL, NOMINAL, NOMINAL, "NULL", NOMINAL, "NULL")
END_GROUP = INSTRUMENT_SETTING_PARAMETERS
GROUP = VIEWING_PARAMETERS
  INCIDENCE_ANGLE = 37.598291 <DEG>
  EMISSION_ANGLE = 6.784204 <DEG>
  PHASE_ANGLE = 44.280166 <DEG>
  LOCAL_TIME = 14.66409 <LOCALDAY/24>
  SOLAR_LONGITUDE = 285.651064 <DEG>
  SUB_SOLAR_AZIMUTH = 164.040966 <DEG>
  NORTH_AZIMUTH = 270.000000 <DEG>
END_GROUP = VIEWING_PARAMETERS
/* The JPEG2000 image data file associated with this label. */
OBJECT = COMPRESSED_FILE
  FILE_NAME = "ESP_013527_1615_MRGB.JP2"
  RECORD_TYPE = UNDEFINED
  ENCODING_TYPE = "JP2"
  ENCODING_TYPE_VERSION_NAME = "ISO/IEC15444-1:2004"
  INTERCHANGE_FORMAT = BINARY
  /* The name of the original source file. */
  UNCOMPRESSED_FILE_NAME = "ESP_013527_1615_MRGB.IMG"
  /* The amount of original image data. */
  REQUIRED_STORAGE_BYTES = 2313003924 <BYTES>
  ^DESCRIPTION = "JP2INFO.TXT"
END_OBJECT = COMPRESSED_FILE
/* The source image data definition. */
OBJECT = UNCOMPRESSED_FILE
  FILE_NAME = "ESP_013527_1615_MRGB.IMG"
  RECORD_TYPE = FIXED_LENGTH
  RECORD_BYTES = 16124 <BYTES>
  FILE_RECORDS = 143451
  ^IMAGE = "ESP_013527_1615_MRGB.IMG"
  OBJECT = IMAGE
    DESCRIPTION = "HiRISE projected and mosaicked product"
    LINES = 47817
    LINE_SAMPLES = 16124
    BANDS = 3
    SAMPLE_TYPE = MSB_UNSIGNED_INTEGER
    SAMPLE_BITS = 8
    SAMPLE_BIT_MASK = 2#11111111#
    MRO:STRETCH_FLAG = "NORMAL_STRETCH"
    /* Scaled DNs have the range 0 to 255 */
    /* and are relative values. */
    SCALING_FACTOR = 1.0079051383399
    OFFSET = -1.0079051383399
    BAND_STORAGE_TYPE = BAND_SEQUENTIAL
    CORE_NULL = 0
    CORE_LOW_REPR_SATURATION = 0
    CORE_LOW_INSTR_SATURATION = 0
    CORE_HIGH_REPR_SATURATION = 255
    CORE_HIGH_INSTR_SATURATION = 255
    CENTER_FILTER_WAVELENGTH = (-9998 <NM>, -9998 <NM>, -9998 <NM>)
    MRO:MINIMUM_STRETCH = (1, 1, 1)
    MRO:MAXIMUM_STRETCH = (254, 254, 254)
    FILTER_NAME = ("NULL", "NULL", "NULL")
  END_OBJECT = IMAGE
END_OBJECT = UNCOMPRESSED_FILE
END
