PDS_VERSION_ID = PDS3
/* Identification Information */
DATA_SET_ID = "MRO-M-HIRISE-5-DTM-V1.0"
DATA_SET_NAME = "MRO MARS HIGH RESOLUTION IMAGING SCIENCE EXPERIMENT DTM V1.0"
PRODUCER_INSTITUTION_NAME = "UNIVERSITY OF ARIZONA"
PRODUCER_ID = "UA"
PRODUCER_FULL_NAME = "ALFRED MCEWEN, SHAVONNE MORIN"
PRODUCT_ID = "ESP_069942_2055_IRB_A_01_ORTHO"
PRODUCT_VERSION_ID = "1"
INSTRUMENT_HOST_NAME = "MARS RECONNAISSANCE ORBITER"
INSTRUMENT_HOST_ID = "MRO"
INSTRUMENT_NAME = "HIGH RESOLUTION IMAGING SCIENCE EXPERIMENT"
INSTRUMENT_ID = "HIRISE"
TARGET_NAME = "MARS"
SOURCE_PRODUCT_ID = (ESP_069942_2055, DTEEC_069876_2055_069942_2055_A01)
RATIONALE_DESC = "Utopia Planitia"
SOFTWARE_NAME = "SOCET Set 5.6.0"
OBJECT = IMAGE_MAP_PROJECTION
  ^DATA_SET_MAP_PROJECTION = "DSMAP.CAT"
  MAP_PROJECTION_TYPE = "EQUIRECTANGULAR"
  PROJECTION_LATITUDE_TYPE = PLANETOCENTRIC
  /* NOTE: The EQUIRECTANGULAR projection is based on the formula */
  /* for a sphere. To eliminate confusion in the */
  /* IMAGE_MAP_PROJECTION object we have set all three radii, */
  /* A_AXIS_RADIUS, B_AXIS_RADIUS, and C_AXIS_RADIUS to the same */
  /* number. The value recorded in the three radii is the local */
  /* radius at the center latitude on the Mars ellipsoid. That is, */
  /* equatorial radius of 3396.190000 km and polar radius of */
  /* 3376.200000 kilometers. Using the local radius of the */
  /* ellipsoid implies that the MAP_SCALE and MAP_RESOLUTION are */
  /* true at the center latitude. */
  A_AXIS_RADIUS = 3392.5936110435
  B_AXIS_RADIUS = 3392.5936110435
  C_AXIS_RADIUS = 3392.5936110435
  COORDINATE_SYSTEM_NAME = PLANETOCENTRIC
  POSITIVE_LONGITUDE_DIRECTION = EAST
  KEYWORD_LATITUDE_TYPE = PLANETOCENTRIC
  /* NOTE: CENTER_LATITUDE and CENTER_LONGITUDE describe the location */
  /* of the center of projection, which is not necessarily equal to the */
  /* location of the center point of the image. */
  CENTER_LATITUDE = 25.0
  CENTER_LONGITUDE = 109.83
  LINE_FIRST_PIXEL = 1
  LINE_LAST_PIXEL = 64756
  SAMPLE_FIRST_PIXEL = 1
  SAMPLE_LAST_PIXEL = 27831
  MAP_PROJECTION_ROTATION = 0.0
  MAP_RESOLUTION = 235076.00226465
  MAP_SCALE = 0.25188419117393
  MAXIMUM_LATITUDE = 25.23022865855
  MINIMUM_LATITUDE = 24.954763314828
  LINE_PROJECTION_OFFSET = 5931021.5000001
  SAMPLE_PROJECTION_OFFSET = 13897.5
  EASTERNMOST_LONGITUDE = 109.89539785
  WESTERNMOST_LONGITUDE = 109.76476964
END_OBJECT = IMAGE_MAP_PROJECTION
OBJECT = VIEWING_PARAMETERS
  NORTH_AZIMUTH = 270.0
END_OBJECT = VIEWING_PARAMETERS
/* The JPEG2000 image data file associated with this label. */
OBJECT = COMPRESSED_FILE
  FILE_NAME = "ESP_069942_2055_IRB_A_01_ORTHO.JP2"
  RECORD_TYPE = UNDEFINED
  ENCODING_TYPE = "JP2"
  ENCODING_TYPE_VERSION_NAME = "ISO/IEC15444-1:2004"
  INTERCHANGE_FORMAT = BINARY
  /* The name of the original source file. */
  UNCOMPRESSED_FILE_NAME = "ESP_069942_2055_IRB_A_01_ORTHO.IMG"
  /* The amount of original image data. */
  REQUIRED_STORAGE_BYTES = 5406672708
  ^DESCRIPTION = "JP2INFO.TXT"
END_OBJECT = COMPRESSED_FILE
/* The source image data definition. */
OBJECT = UNCOMPRESSED_FILE
  FILE_NAME = "ESP_069942_2055_IRB_A_01_ORTHO.IMG"
  RECORD_TYPE = FIXED_LENGTH
  RECORD_BYTES = 27831
  FILE_RECORDS = 194268
  ^IMAGE = "ESP_069942_2055_IRB_A_01_ORTHO.IMG"
  OBJECT = IMAGE
    LINES = 64756
    LINE_SAMPLES = 27831
    BANDS = 3
    /* NOTE: The conversion from DN to I/F (intensity/flux) is: */
    /* I/F = (DN * SCALING_FACTOR) + OFFSET */
    /* I/F is defined as the ratio of the observed radiance and */
    /* the radiance of a 100% lambertian reflector with the sun */
    /* and camera orthogonal to the observing surface. */
    OFFSET = 0.0563147448946220
    SCALING_FACTOR = 0.0004855725705370
    SAMPLE_BITS = 8
    SAMPLE_BIT_MASK = 2#11111111#
    SAMPLE_TYPE = MSB_UNSIGNED_INTEGER
    BAND_STORAGE_TYPE = BAND_SEQUENTIAL
    CORE_NULL = 0
    CORE_LOW_REPR_SATURATION = 1
    CORE_LOW_INSTR_SATURATION = 1
    CORE_HIGH_REPR_SATURATION = 255
    CORE_HIGH_INSTR_SATURATION = 255
    CENTER_FILTER_WAVELENGTH = (900 , 700 , 500 )
    FILTER_NAME = ("NEAR-INFRARED", "RED", "BLUE-GREEN")
  END_OBJECT = IMAGE
END_OBJECT = UNCOMPRESSED_FILE
END
