PDS_VERSION_ID = PDS3
/* Identification Information */
DATA_SET_ID = "MRO-M-CTX-HiROC-V1.0"
PRODUCT_ID = "P11_005490_1622_XI_17S033W"
PRODUCER_INSTITUTION_NAME = "UNIVERSITY OF ARIZONA"
PRDOUCER_ID = "UA"
PRODUCER_FULL_NAME = "ALFRED MCEWEN"
SOURCE_PRODUCT_ID = NULL
MISSION_NAME = "MARS RECONNAISSANCE ORBITER"
SPACECRAFT_NAME = "MARS RECONNAISSANCE ORBITER"
INSTRUMENT_NAME = "CONTEXT CAMERA"
INSTRUMENT_ID = "MRO-CTX"
TARGET_NAME = "Mars"
START_TIME = "2007-09-28T05:35:18.244"
ORBIT_NUMBER = 5490
SPACECRAFT_CLOCK_START_COUNT = "0875424937:221"
PRODUCT_CREATION_TIME = 2011-06-11T13:58:27
SOFTWARE_NAME = "CTX_Finalizer (1.6 2011/03/23 20:46:37)"
NOTE = "Special map product for HiROC"
OBJECT = IMAGE_MAP_PROJECTION
  MAP_PROJECTION_TYPE = "EQUIRECTANGULAR"
  PROJECTION_LATITUDE_TYPE = PLANETOCENTRIC
  A_AXIS_RADIUS = 3396.19
  B_AXIS_RADIUS = 3396.19
  C_AXIS_RADIUS = 3376.2
  FIRST_STANDARD_PARALLEL = "N/A"
  SECOND_STANDARD_PARALLEL = "N/A"
  COORDINATE_SYSTEM_NAME = PLANETOCENTRIC
  POSITIVE_LONGITUDE_DIRECTION = EAST
  KEYWORD_LATITUDE_TYPE = PLANETOCENTRIC
  CENTER_LATITUDE = -15
  CENTER_LONGITUDE = 0.0
  LINE_FIRST_PIXEL = 1
  LINE_LAST_PIXEL = 22165
  SAMPLE_FIRST_PIXEL = 1
  SAMPLE_LAST_PIXEL = 7856
  MAP_PROJECTION_ROTATION = 0.0
  MAP_RESOLUTION = 11850.226464032
  MAP_SCALE = 0.005
  MAXIMUM_LATITUDE = -18.438780132992
  MINIMUM_LATITUDE = -20.309116828692
  EASTERNMOST_LONGITUDE = 327.20551806029
  WESTERNMOST_LONGITUDE = 326.51919383001
  LINE_PROJECTION_OFFSET = -218502.5
  SAMPLE_PROJECTION_OFFSET = -3737481.5
END_OBJECT = IMAGE_MAP_PROJECTION
/* The JPEG2000 image data file associated with this label. */
OBJECT = COMPRESSED_FILE
  FILE_NAME = "P11_005490_1622_XI_17S033W.JP2"
  RECORD_TYPE = UNDEFINED
  ENCODING_TYPE = "JP2"
  ENCODING_TYPE_VERSION_NAME = "ISO/IEC15444-1:2004"
  INTERCHANGE_FORMAT = BINARY
  /* The name of the original source file. */
  UNCOMPRESSED_FILE_NAME = "P11_005490_1622_XI_17S033W.3035.img"
  /* The amount of original image data. */
  REQUIRED_STORAGE_BYTES = 174128240
  ^DESCRIPTION = "JP2INFO.TXT"
END_OBJECT = COMPRESSED_FILE
/* The source image data definition. */
OBJECT = UNCOMPRESSED_FILE
  FILE_NAME = "P11_005490_1622_XI_17S033W.3035.img"
  RECORD_TYPE = FIXED_LENGTH
  RECORD_BYTES = 7856
  FILE_RECORDS = 22165
  ^IMAGE = "P11_005490_1622_XI_17S033W.3035.img"
  OBJECT = IMAGE
    LINES = 22165
    LINE_SAMPLES = 7856
    BANDS = 1
    CENTER_FILTER_WAVELENGTH = 0.65
    BANDWIDTH = 0.15
    BAND_STORAGE_TYPE = BAND_SEQUENTIAL
    OFFSET = 0.10766097861581
    SCALING_FACTOR = 1.82296973986446e-04
    SAMPLE_BITS = 8
    SAMPLE_BIT_MASK = 2#11111111#
    SAMPLE_TYPE = MSB_UNSIGNED_INTEGER
    CORE_NULL = 0
    CORE_LOW_REPR_SATURATION = 1
    CORE_LOW_INSTR_SATURATION = 1
    CORE_HIGH_REPR_SATURATION = 255
    CORE_HIGH_INSTR_SATURATION = 255
  END_OBJECT = IMAGE
END_OBJECT = UNCOMPRESSED_FILE
END
