PDS_VERSION_ID = PDS3
/* Identification Information */
DATA_SET_ID = "MRO-M-CTX-HiROC-V1.0"
PRODUCT_ID = "U15_076913_1753_XI_04S126W"
PRODUCER_INSTITUTION_NAME = "UNIVERSITY OF ARIZONA"
PRDOUCER_ID = "UA"
PRODUCER_FULL_NAME = "ALFRED MCEWEN"
SOURCE_PRODUCT_ID = NULL
MISSION_NAME = "MARS RECONNAISSANCE ORBITER"
SPACECRAFT_NAME = "MARS RECONNAISSANCE ORBITER"
INSTRUMENT_NAME = "CONTEXT CAMERA"
INSTRUMENT_ID = "MRO-CTX"
TARGET_NAME = "MARS"
START_TIME = "2022-12-23T09:29:47.915"
ORBIT_NUMBER = 76913
SPACECRAFT_CLOCK_START_COUNT = "1356255046:205"
PRODUCT_CREATION_TIME = 2023-09-04T06:09:49
SOFTWARE_NAME = "CTX_Finalizer (1.10 2020/04/29 05:19:10)"
NOTE = "Special map product for HiROC"
OBJECT = IMAGE_MAP_PROJECTION
  MAP_PROJECTION_TYPE = "EQUIRECTANGULAR"
  PROJECTION_LATITUDE_TYPE = PLANETOCENTRIC
  A_AXIS_RADIUS = 3396.19
  B_AXIS_RADIUS = 3396.19
  C_AXIS_RADIUS = 3376.2
  FIRST_STANDARD_PARALLEL = "N/A"
  SECOND_STANDARD_PARALLEL = "N/A"
  COORDINATE_SYSTEM_NAME = PLANETOCENTRIC
  POSITIVE_LONGITUDE_DIRECTION = EAST
  KEYWORD_LATITUDE_TYPE = PLANETOCENTRIC
  CENTER_LATITUDE = 0
  CENTER_LONGITUDE = 233.66203622297
  LINE_FIRST_PIXEL = 1
  LINE_LAST_PIXEL = 8887
  SAMPLE_FIRST_PIXEL = 1
  SAMPLE_LAST_PIXEL = 3594
  MAP_PROJECTION_ROTATION = 0.0
  MAP_RESOLUTION = 5927.4697523306
  MAP_SCALE = 0.01
  MAXIMUM_LATITUDE = -3.9870119836332
  MINIMUM_LATITUDE = -5.4861354365902
  EASTERNMOST_LONGITUDE = 233.96518059086
  WESTERNMOST_LONGITUDE = 233.35889185507
  LINE_PROJECTION_OFFSET = -23632.5
  SAMPLE_PROJECTION_OFFSET = 1796.5
END_OBJECT = IMAGE_MAP_PROJECTION
/* The JPEG2000 image data file associated with this label. */
OBJECT = COMPRESSED_FILE
  FILE_NAME = "U15_076913_1753_XI_04S126W.JP2"
  RECORD_TYPE = UNDEFINED
  ENCODING_TYPE = "JP2"
  ENCODING_TYPE_VERSION_NAME = "ISO/IEC15444-1:2004"
  INTERCHANGE_FORMAT = BINARY
  /* The name of the original source file. */
  UNCOMPRESSED_FILE_NAME = "U15_076913_1753_XI_04S126W.20196.img"
  /* The amount of original image data. */
  REQUIRED_STORAGE_BYTES = 31939878
  ^DESCRIPTION = "JP2INFO.TXT"
END_OBJECT = COMPRESSED_FILE
/* The source image data definition. */
OBJECT = UNCOMPRESSED_FILE
  FILE_NAME = "U15_076913_1753_XI_04S126W.20196.img"
  RECORD_TYPE = FIXED_LENGTH
  RECORD_BYTES = 3594
  FILE_RECORDS = 8887
  ^IMAGE = "U15_076913_1753_XI_04S126W.20196.img"
  OBJECT = IMAGE
    LINES = 8887
    LINE_SAMPLES = 3594
    BANDS = 1
    CENTER_FILTER_WAVELENGTH = 0.65
    BANDWIDTH = 0.15
    BAND_STORAGE_TYPE = BAND_SEQUENTIAL
    OFFSET = 0.2401867977385
    SCALING_FACTOR = 4.89177406107588e-04
    SAMPLE_BITS = 8
    SAMPLE_BIT_MASK = 2#11111111#
    SAMPLE_TYPE = MSB_UNSIGNED_INTEGER
    CORE_NULL = 0
    CORE_LOW_REPR_SATURATION = 1
    CORE_LOW_INSTR_SATURATION = 1
    CORE_HIGH_REPR_SATURATION = 255
    CORE_HIGH_INSTR_SATURATION = 255
  END_OBJECT = IMAGE
END_OBJECT = UNCOMPRESSED_FILE
END
