PDS_VERSION_ID = PDS3
/* Identification Information */
DATA_SET_ID = "MRO-M-HIRISE-5-DTM-V1.0"
DATA_SET_NAME = "MRO MARS HIGH RESOLUTION IMAGING SCIENCE EXPERIMENT DTM V1.0"
PRODUCER_INSTITUTION_NAME = "UNIVERSITY OF ARIZONA"
PRODUCER_ID = "UA"
PRODUCER_FULL_NAME = "ALFRED MCEWEN, CHRISTINE AMANDA AKERS"
PRODUCT_ID = "ESP_075412_0990_IRB_A_01_ORTHO"
PRODUCT_VERSION_ID = "1"
INSTRUMENT_HOST_NAME = "MARS RECONNAISSANCE ORBITER"
INSTRUMENT_HOST_ID = "MRO"
INSTRUMENT_NAME = "HIGH RESOLUTION IMAGING SCIENCE EXPERIMENT"
INSTRUMENT_ID = "HIRISE"
TARGET_NAME = "MARS"
SOURCE_PRODUCT_ID = (ESP_075412_0990, DTEPC_075570_0990_075412_0990_A01)
RATIONALE_DESC = "South polar layered deposits"
SOFTWARE_NAME = "SOCET Set 5.6.0"
OBJECT = IMAGE_MAP_PROJECTION
  ^DATA_SET_MAP_PROJECTION = "DSMAP.CAT"
  MAP_PROJECTION_TYPE = "POLAR STEREOGRAPHIC"
  PROJECTION_LATITUDE_TYPE = PLANETOCENTRIC
  A_AXIS_RADIUS = 3396.19
  B_AXIS_RADIUS = 3396.19
  C_AXIS_RADIUS = 3376.2
  COORDINATE_SYSTEM_NAME = PLANETOCENTRIC
  POSITIVE_LONGITUDE_DIRECTION = EAST
  KEYWORD_LATITUDE_TYPE = PLANETOCENTRIC
  /* NOTE: CENTER_LATITUDE and CENTER_LONGITUDE describe the location */
  /* of the center of projection, which is not necessarily equal to the */
  /* location of the center point of the image. */
  CENTER_LATITUDE = -90.0
  CENTER_LONGITUDE = 0.0
  LINE_FIRST_PIXEL = 1
  LINE_LAST_PIXEL = 39484
  SAMPLE_FIRST_PIXEL = 1
  SAMPLE_LAST_PIXEL = 18868
  MAP_PROJECTION_ROTATION = 0.0
  MAP_RESOLUTION = 235703.22482333
  MAP_SCALE = 0.25
  MAXIMUM_LATITUDE = -80.9217
  MINIMUM_LATITUDE = -81.0775
  LINE_PROJECTION_OFFSET = -2050678.5
  SAMPLE_PROJECTION_OFFSET = 490913.5
  EASTERNMOST_LONGITUDE = 193.302
  WESTERNMOST_LONGITUDE = 192.815
END_OBJECT = IMAGE_MAP_PROJECTION
OBJECT = VIEWING_PARAMETERS
  NORTH_AZIMUTH = 103.0585
END_OBJECT = VIEWING_PARAMETERS
/* The JPEG2000 image data file associated with this label. */
OBJECT = COMPRESSED_FILE
  FILE_NAME = "ESP_075412_0990_IRB_A_01_ORTHO.JP2"
  RECORD_TYPE = UNDEFINED
  ENCODING_TYPE = "JP2"
  ENCODING_TYPE_VERSION_NAME = "ISO/IEC15444-1:2004"
  INTERCHANGE_FORMAT = BINARY
  /* The name of the original source file. */
  UNCOMPRESSED_FILE_NAME = "ESP_075412_0990_IRB_A_01_ORTHO.IMG"
  /* The amount of original image data. */
  REQUIRED_STORAGE_BYTES = 2234952336
  ^DESCRIPTION = "JP2INFO.TXT"
END_OBJECT = COMPRESSED_FILE
/* The source image data definition. */
OBJECT = UNCOMPRESSED_FILE
  FILE_NAME = "ESP_075412_0990_IRB_A_01_ORTHO.IMG"
  RECORD_TYPE = FIXED_LENGTH
  RECORD_BYTES = 18868
  FILE_RECORDS = 118452
  ^IMAGE = "ESP_075412_0990_IRB_A_01_ORTHO.IMG"
  OBJECT = IMAGE
    LINES = 39484
    LINE_SAMPLES = 18868
    BANDS = 3
    /* NOTE: The conversion from DN to I/F (intensity/flux) is: */
    /* I/F = (DN * SCALING_FACTOR) + OFFSET */
    /* I/F is defined as the ratio of the observed radiance and */
    /* the radiance of a 100% lambertian reflector with the sun */
    /* and camera orthogonal to the observing surface. */
    OFFSET = 0.0314872908664117
    SCALING_FACTOR = 0.0002210685407793
    SAMPLE_BITS = 8
    SAMPLE_BIT_MASK = 2#11111111#
    SAMPLE_TYPE = MSB_UNSIGNED_INTEGER
    BAND_STORAGE_TYPE = BAND_SEQUENTIAL
    CORE_NULL = 0
    CORE_LOW_REPR_SATURATION = 1
    CORE_LOW_INSTR_SATURATION = 1
    CORE_HIGH_REPR_SATURATION = 255
    CORE_HIGH_INSTR_SATURATION = 255
    CENTER_FILTER_WAVELENGTH = (900 , 700 , 500 )
    FILTER_NAME = ("NEAR-INFRARED", "RED", "BLUE-GREEN")
  END_OBJECT = IMAGE
END_OBJECT = UNCOMPRESSED_FILE
END
